BEGIN:VCALENDAR
VERSION:2.0
PRODID:-//Kalkhorster Kinderkram e. V. - ECPv6.15.20//NONSGML v1.0//EN
CALSCALE:GREGORIAN
METHOD:PUBLISH
X-WR-CALNAME:Kalkhorster Kinderkram e. V.
X-ORIGINAL-URL:https://kalkhorster-kinderkram.de
X-WR-CALDESC:Veranstaltungen für Kalkhorster Kinderkram e. V.
REFRESH-INTERVAL;VALUE=DURATION:PT1H
X-Robots-Tag:noindex
X-PUBLISHED-TTL:PT1H
BEGIN:VTIMEZONE
TZID:Europe/Berlin
BEGIN:DAYLIGHT
TZOFFSETFROM:+0100
TZOFFSETTO:+0200
TZNAME:CEST
DTSTART:20250330T010000
END:DAYLIGHT
BEGIN:STANDARD
TZOFFSETFROM:+0200
TZOFFSETTO:+0100
TZNAME:CET
DTSTART:20251026T010000
END:STANDARD
BEGIN:DAYLIGHT
TZOFFSETFROM:+0100
TZOFFSETTO:+0200
TZNAME:CEST
DTSTART:20260329T010000
END:DAYLIGHT
BEGIN:STANDARD
TZOFFSETFROM:+0200
TZOFFSETTO:+0100
TZNAME:CET
DTSTART:20261025T010000
END:STANDARD
BEGIN:DAYLIGHT
TZOFFSETFROM:+0100
TZOFFSETTO:+0200
TZNAME:CEST
DTSTART:20270328T010000
END:DAYLIGHT
BEGIN:STANDARD
TZOFFSETFROM:+0200
TZOFFSETTO:+0100
TZNAME:CET
DTSTART:20271031T010000
END:STANDARD
END:VTIMEZONE
BEGIN:VEVENT
DTSTART;TZID=Europe/Berlin:20260425T090000
DTEND;TZID=Europe/Berlin:20260425T130000
DTSTAMP:20260423T144022
CREATED:20260408T131044Z
LAST-MODIFIED:20260408T131044Z
UID:966-1777107600-1777122000@kalkhorster-kinderkram.de
SUMMARY:Erste Hilfe am Kind
DESCRIPTION:🚑👶 Erste Hilfe am Kind – Sicherheit für den Alltag! ❤️ \nUnfälle passieren oft schneller\, als man denkt. Umso wichtiger ist es\, im Ernstfall richtig reagieren zu können. In unserem Erste-Hilfe-Kurs am Kind\, durchgeführt vom Deutschen Roten Kreuz\, lernt ihr die wichtigsten Maßnahmen rund um die Erstversorgung von Kindern. \nGemeinsam schauen wir uns typische Notfallsituationen an\, üben praktische Handgriffe und gewinnen Sicherheit im Umgang mit:👉 Unfällen & Verletzungen👉 Fieber & Vergiftungen👉 Verschlucken & Ersticken \nEin wertvoller Kurs für Eltern\, Großeltern und alle\, die mit Kindern zu tun haben – praxisnah\, verständlich und mit Raum für eure Fragen. \n✨ Für mehr Sicherheit im Familienalltag! \n📅 25.04.2026🕒 09:00 – 13:00 Uhr📍 Speisesaal Schule Kalkhorst \n💶 35 € pro Person \n👉 Anmeldung per Mail an: info@kalkhorster-kinderkram.de oder über unseren WhatsApp-Kanal \n  \n  \n 
URL:https://kalkhorster-kinderkram.de/veranstaltung/erste-hilfe-am-kind/
LOCATION:Speisesaal Grundschule Kalkhorst\, Am Sportplatz 16\, Kalkhorst\, 23942
ATTACH;FMTTYPE=image/jpeg:https://kalkhorster-kinderkram.de/wp-content/uploads/2026/04/Erste-Hilfe-KUrs.jpeg
END:VEVENT
BEGIN:VEVENT
DTSTART;TZID=Europe/Berlin:20260506T153000
DTEND;TZID=Europe/Berlin:20260506T153000
DTSTAMP:20260423T144022
CREATED:20260309T092405Z
LAST-MODIFIED:20260309T092405Z
UID:957-1778081400-1778081400@kalkhorster-kinderkram.de
SUMMARY:Naturwanderung
DESCRIPTION:🌿🐸 Naturwanderung für die ganze Familie! 🌼🌳Kommt mit uns auf eine kleine Entdeckungsreise durch die Natur rund um Kalkhorst! Gemeinsam mit euren Kindern erkunden wir Pflanzen\, Tiere und spannende Naturdetails am Wegesrand. Mit offenen Augen und viel Neugier gibt es draußen jede Menge zu entdecken. \nEin entspannter Nachmittag für kleine und große Naturforscher – zum Staunen\, Fragen stellen und gemeinsam die Natur erleben. 🌱✨ \n  \n  \n 
URL:https://kalkhorster-kinderkram.de/veranstaltung/naturwanderung/
LOCATION:Schloss Kalkhorst\, Am Park 5\, Kalkhorst\, 23942
CATEGORIES:Eltern-Kind-Nachmittag
ATTACH;FMTTYPE=image/jpeg:https://kalkhorster-kinderkram.de/wp-content/uploads/2026/03/EKN-Mai-2026-scaled.jpg
END:VEVENT
END:VCALENDAR